BEGIN:VCALENDAR
VERSION:2.0
PRODID:-//Sivananda Yoga Vedanta Center Los Angeles - ECPv6.15.20//NONSGML v1.0//EN
CALSCALE:GREGORIAN
METHOD:PUBLISH
X-WR-CALNAME:Sivananda Yoga Vedanta Center Los Angeles
X-ORIGINAL-URL:https://sivanandala.org
X-WR-CALDESC:Events for Sivananda Yoga Vedanta Center Los Angeles
REFRESH-INTERVAL;VALUE=DURATION:PT1H
X-Robots-Tag:noindex
X-PUBLISHED-TTL:PT1H
BEGIN:VTIMEZONE
TZID:America/Los_Angeles
BEGIN:DAYLIGHT
TZOFFSETFROM:-0800
TZOFFSETTO:-0700
TZNAME:PDT
DTSTART:20190310T100000
END:DAYLIGHT
BEGIN:STANDARD
TZOFFSETFROM:-0700
TZOFFSETTO:-0800
TZNAME:PST
DTSTART:20191103T090000
END:STANDARD
BEGIN:DAYLIGHT
TZOFFSETFROM:-0800
TZOFFSETTO:-0700
TZNAME:PDT
DTSTART:20200308T100000
END:DAYLIGHT
BEGIN:STANDARD
TZOFFSETFROM:-0700
TZOFFSETTO:-0800
TZNAME:PST
DTSTART:20201101T090000
END:STANDARD
BEGIN:DAYLIGHT
TZOFFSETFROM:-0800
TZOFFSETTO:-0700
TZNAME:PDT
DTSTART:20210314T100000
END:DAYLIGHT
BEGIN:STANDARD
TZOFFSETFROM:-0700
TZOFFSETTO:-0800
TZNAME:PST
DTSTART:20211107T090000
END:STANDARD
END:VTIMEZONE
BEGIN:VEVENT
DTSTART;TZID=America/Los_Angeles:20200322T130000
DTEND;TZID=America/Los_Angeles:20200322T160000
DTSTAMP:20260425T050648
CREATED:20200216T051556Z
LAST-MODIFIED:20200319T041807Z
UID:10365-1584882000-1584892800@sivanandala.org
SUMMARY:POSTPONED - Speaking Peace with Gail McManus
DESCRIPTION:Are you wishing for ways to contribute peace and stability in our complicated and challenging world? Are you seeking community based on mutual understanding and safety? In our time we may become confused and discouraged regarding societal\, political and personal situations. There is an ever greater longing for conditions which engender empowerment\, fairness\, safety and trust. Nonviolent Communication fosters community-building. We become conscious of our intentions\, develop the valuable tool of Empathy and experience Empowerment—even in unlikely circumstances. We find workable\, creative strategies for what formerly seemed unsolvable situations. We become Peace-bearers in a world which is in need of healing and renewal. \nSome NVC skills include: \n\nUnderstanding the motives and intentions behind our words and actions\nExpressing what you want using language which promotes mutual understanding\nSaying “no” while maintaining a relationship of connection\nGiving feedback that can be received and result in positive change\nExpressing anger with dignity and care for ourselves and others\nExpressing appreciation vs. giving a compliment\nAnd much more…\n\nGail McManus is a practicing Communications Counselor and Mediator\, having trained with many skilled leaders in the field including Marshall Rosenberg. Gail enjoys sharing the highly successful way toward improved self-awareness and connection with others known as Nonviolent Communication. www.gailmcmanus.com \n  \nRegister
URL:https://sivanandala.org/program/workshop-with-gail-mcmanus/
LOCATION:Sivananda Yoga Vedanta Center Los Angeles\, 3741 West 27th Street\, Los Angeles\, CA\, 90018\, United States
ATTACH;FMTTYPE=image/jpeg:https://sivanandala.org/wp-content/uploads/2020/02/GailMcManus400.jpg
END:VEVENT
END:VCALENDAR